BEGIN:VCALENDAR
VERSION:2.0
PRODID:-//un-associated - ECPv6.15.3//NONSGML v1.0//EN
CALSCALE:GREGORIAN
METHOD:PUBLISH
X-WR-CALNAME:un-associated
X-ORIGINAL-URL:https://www.un-associated.com
X-WR-CALDESC:Events for un-associated
REFRESH-INTERVAL;VALUE=DURATION:PT1H
X-Robots-Tag:noindex
X-PUBLISHED-TTL:PT1H
BEGIN:VTIMEZONE
TZID:America/Los_Angeles
BEGIN:DAYLIGHT
TZOFFSETFROM:-0800
TZOFFSETTO:-0700
TZNAME:PDT
DTSTART:20230312T100000
END:DAYLIGHT
BEGIN:STANDARD
TZOFFSETFROM:-0700
TZOFFSETTO:-0800
TZNAME:PST
DTSTART:20231105T090000
END:STANDARD
BEGIN:DAYLIGHT
TZOFFSETFROM:-0800
TZOFFSETTO:-0700
TZNAME:PDT
DTSTART:20240310T100000
END:DAYLIGHT
BEGIN:STANDARD
TZOFFSETFROM:-0700
TZOFFSETTO:-0800
TZNAME:PST
DTSTART:20241103T090000
END:STANDARD
END:VTIMEZONE
BEGIN:VEVENT
DTSTART;TZID=America/Los_Angeles:20240210T183000
DTEND;TZID=America/Los_Angeles:20240210T210000
DTSTAMP:20260423T122352
CREATED:20240106T175454Z
LAST-MODIFIED:20240106T175714Z
UID:25428-1707589800-1707598800@www.un-associated.com
SUMMARY:The UN-ASSOCIATED Poetry Jam 7
DESCRIPTION:UN-ASSOCIATED is a nonprofit\, multimedia platform engaging young people with content and experiences to help them discover their identity in Christ. We’re excited to create a space for Jesus to show up in a unique way to our community. \nWe at UA want to share in this amazing experience with you\, so tell a friend to tell a friend and join us for the Un-Associated Poetry Jam! We are excited to invite current and new community members into another space where Jesus can show up through arts\, creativity\, and worship! \nDoors open at 6:30pm PST! RSVP through the event link below!
URL:https://www.un-associated.com/event/the-un-associated-poetry-jam-7/
LOCATION:220 West Ivy Avenue #unit c Inglewood\, CA 90302\, 220 West Ivy Avenue #unit c\, Inglewood\, 90302\, United States
CATEGORIES:In-Person
ATTACH;FMTTYPE=image/png:https://www.un-associated.com/wp-content/uploads/2024/01/tupj7-event-page.png
END:VEVENT
BEGIN:VEVENT
DTSTART;TZID=America/Los_Angeles:20240205T173000
DTEND;TZID=America/Los_Angeles:20240205T183000
DTSTAMP:20260423T122352
CREATED:20240106T180044Z
LAST-MODIFIED:20240219T023649Z
UID:25437-1707154200-1707157800@www.un-associated.com
SUMMARY:February Bible Study
DESCRIPTION:In our monthly Bible Studies we study different books and topics covered in the Bible in order to gain a deeper appreciation for the Word of God while accepting challenges to apply its teachings to our daily lives. If you haven’t already\, sign up via the link below to receive monthly emails that will contain the Google Meets invite links. Can’t wait to see you!
URL:https://www.un-associated.com/event/february-bible-study/
LOCATION:Google Meets
CATEGORIES:Virtual
ATTACH;FMTTYPE=image/png:https://www.un-associated.com/wp-content/uploads/2023/08/bible-study-event-calendar-feature-image.png
END:VEVENT
BEGIN:VEVENT
DTSTART;TZID=America/Los_Angeles:20240108T173000
DTEND;TZID=America/Los_Angeles:20240108T183000
DTSTAMP:20260423T122352
CREATED:20240106T175929Z
LAST-MODIFIED:20240106T175929Z
UID:25435-1704735000-1704738600@www.un-associated.com
SUMMARY:January Bible Study
DESCRIPTION:In our monthly Bible Studies we study different books and topics covered in the Bible in order to gain a deeper appreciation for the Word of God while accepting challenges to apply its teachings to our daily lives. If you haven’t already\, sign up via the link below to receive monthly emails that will contain the Google Meets invite links. Can’t wait to see you! \nThis month’s topic: Discipline
URL:https://www.un-associated.com/event/january-bible-study/
LOCATION:Google Meets
CATEGORIES:Virtual
ATTACH;FMTTYPE=image/png:https://www.un-associated.com/wp-content/uploads/2023/08/bible-study-event-calendar-feature-image.png
END:VEVENT
BEGIN:VEVENT
DTSTART;VALUE=DATE:20231222
DTEND;VALUE=DATE:20231223
DTSTAMP:20260423T122352
CREATED:20231120T165956Z
LAST-MODIFIED:20231120T172214Z
UID:25250-1703203200-1703289599@www.un-associated.com
SUMMARY:Poetry Jam Auditions Deadline
DESCRIPTION:It’s about that time…Our 7th Poetry Jam will take place in Los Angeles\, on Saturday February 3rd\, 2024\, and we are on the look out for spoken word performers ready to share their stories and give glory to the Lord. Tell a friend. Pray on it. Don’t be shy. You don’t have to be an expert\, experienced or perfect. All we ask is that you be authentic and Spirit-led. See the audition form for more guidelines. (Linked below).
URL:https://www.un-associated.com/event/poetry-jam-auditions-deadline/
LOCATION:CA
ATTACH;FMTTYPE=image/png:https://www.un-associated.com/wp-content/uploads/2023/11/Event-feature-image-www.un-associated.png
END:VEVENT
BEGIN:VEVENT
DTSTART;TZID=America/Los_Angeles:20231204T173000
DTEND;TZID=America/Los_Angeles:20231204T183000
DTSTAMP:20260423T122352
CREATED:20230829T001221Z
LAST-MODIFIED:20230829T001221Z
UID:24955-1701711000-1701714600@www.un-associated.com
SUMMARY:December Bible Study
DESCRIPTION:In our monthly Bible Studies we study different books and topics covered in the Bible in order to gain a deeper appreciation for the Word of God while accepting challenges to apply its teachings to our daily lives. If you haven’t already\, sign up via the link below to receive monthly emails that will contain the Google Meets invite links. Can’t wait to see you!
URL:https://www.un-associated.com/event/december-bible-study/
LOCATION:Google Meets
CATEGORIES:Virtual
ATTACH;FMTTYPE=image/png:https://www.un-associated.com/wp-content/uploads/2023/08/bible-study-event-calendar-feature-image.png
END:VEVENT
BEGIN:VEVENT
DTSTART;TZID=America/Los_Angeles:20231120T173000
DTEND;TZID=America/Los_Angeles:20231120T183000
DTSTAMP:20260423T122352
CREATED:20231111T062949Z
LAST-MODIFIED:20231111T062949Z
UID:25199-1700501400-1700505000@www.un-associated.com
SUMMARY:Men's Month Panel & Discussion
DESCRIPTION:We are creating a space to learn and have needed conversations surrounding masculinity\, manhood and Jesus. We’ve selected 4 men of God to help guide our time in godly wisdom surrounding these topics. The panel and discussion will takes place on Google Meet\, November 20th\, at 5:30pm PST.
URL:https://www.un-associated.com/event/mens-month-panel-discussion/
LOCATION:CA
CATEGORIES:Virtual
ATTACH;FMTTYPE=image/png:https://www.un-associated.com/wp-content/uploads/2023/11/2ergfr32fewgrg_.png
END:VEVENT
BEGIN:VEVENT
DTSTART;TZID=America/Los_Angeles:20231106T173000
DTEND;TZID=America/Los_Angeles:20231106T183000
DTSTAMP:20260423T122352
CREATED:20230829T001050Z
LAST-MODIFIED:20230829T001204Z
UID:24953-1699291800-1699295400@www.un-associated.com
SUMMARY:November Bible Study
DESCRIPTION:In our monthly Bible Studies we study different books and topics covered in the Bible in order to gain a deeper appreciation for the Word of God while accepting challenges to apply its teachings to our daily lives. If you haven’t already\, sign up via the link below to receive monthly emails that will contain the Google Meets invite links. Can’t wait to see you!
URL:https://www.un-associated.com/event/november-bible-study/
LOCATION:Google Meets
ATTACH;FMTTYPE=image/png:https://www.un-associated.com/wp-content/uploads/2023/08/bible-study-event-calendar-feature-image.png
END:VEVENT
BEGIN:VEVENT
DTSTART;TZID=America/Los_Angeles:20231002T173000
DTEND;TZID=America/Los_Angeles:20231002T183000
DTSTAMP:20260423T122352
CREATED:20230829T000846Z
LAST-MODIFIED:20230829T001321Z
UID:24950-1696267800-1696271400@www.un-associated.com
SUMMARY:October Bible Study
DESCRIPTION:In our monthly Bible Studies we study different books and topics covered in the Bible in order to gain a deeper appreciation for the Word of God while accepting challenges to apply its teachings to our daily lives. If you haven’t already\, sign up via the link below to receive monthly emails that will contain the Google Meets invite links. Can’t wait to see you!
URL:https://www.un-associated.com/event/october-bible-study/
LOCATION:Google Meets
CATEGORIES:Virtual
ATTACH;FMTTYPE=image/png:https://www.un-associated.com/wp-content/uploads/2023/08/bible-study-event-calendar-feature-image.png
END:VEVENT
BEGIN:VEVENT
DTSTART;TZID=America/Los_Angeles:20230904T173000
DTEND;TZID=America/Los_Angeles:20230904T183000
DTSTAMP:20260423T122352
CREATED:20230905T003054Z
LAST-MODIFIED:20230829T000756Z
UID:24799-1693848600-1693852200@www.un-associated.com
SUMMARY:September Bible Study
DESCRIPTION:In our monthly Bible Studies we study different books and topics covered in the Bible in order to gain a deeper appreciation for the Word of God while accepting challenges to apply its teachings to our daily lives. If you haven’t already\, sign up via the link below to receive monthly emails that will contain the Google Meets invite links. Can’t wait to see you!
URL:https://www.un-associated.com/event/first-monday-bible-study/
LOCATION:Google Meets
CATEGORIES:Virtual
ATTACH;FMTTYPE=image/png:https://www.un-associated.com/wp-content/uploads/2023/08/bible-study-event-calendar-feature-image.png
END:VEVENT
BEGIN:VEVENT
DTSTART;TZID=America/Los_Angeles:20230904T173000
DTEND;TZID=America/Los_Angeles:20230904T183000
DTSTAMP:20260423T122352
CREATED:20230828T235227Z
LAST-MODIFIED:20230828T235227Z
UID:24947-1693848600-1693852200@www.un-associated.com
SUMMARY:First Monday Bible Study
DESCRIPTION:In our monthly Bible Studies we study different books and topics covered in the Bible in order to gain a deeper appreciation for the Word of God while accepting challenges to apply its teachings to our daily lives. If you haven’t already\, sign up via the link below to receive monthly emails that will contain the Google Meets invite links. Can’t wait to see you!
URL:https://www.un-associated.com/event/first-monday-bible-study-2/
LOCATION:Google Meets
CATEGORIES:Virtual
ATTACH;FMTTYPE=image/png:https://www.un-associated.com/wp-content/uploads/2023/08/bible-study-event-calendar-feature-image.png
END:VEVENT
BEGIN:VEVENT
DTSTART;TZID=America/Los_Angeles:20230826T183000
DTEND;TZID=America/Los_Angeles:20230826T210000
DTSTAMP:20260423T122352
CREATED:20230803T053300Z
LAST-MODIFIED:20230803T063333Z
UID:24783-1693074600-1693083600@www.un-associated.com
SUMMARY:The UN-ASSOCIATED Poetry Jam: The Anniversary Special
DESCRIPTION:UN-ASSOCIATED is a nonprofit\, multimedia platform engaging young people with content and experiences to help them discover their identity in Christ. We’re excited to be celebrating 5 years of God’s faithfulness this summer! \nWe want to celebrate this milestone with you and what better way to do that than with our most anticipated and highly requested event\, The Un-Associated Poetry Jam! We are excited to invite current and new community members into another space where Jesus can show up through arts\, creativity\, and worship!
URL:https://www.un-associated.com/event/the-un-associated-poetry-jam-the-anniversary-special/
LOCATION:CA
CATEGORIES:In-Person
ATTACH;FMTTYPE=image/png:https://www.un-associated.com/wp-content/uploads/2023/08/tupj6-event-calendar-feature-image.png
ORGANIZER;CN="Dee Williams":MAILTO:community@un-associated.com
END:VEVENT
END:VCALENDAR