BEGIN:VCALENDAR
VERSION:2.0
PRODID:-//un-associated - ECPv6.15.3//NONSGML v1.0//EN
CALSCALE:GREGORIAN
METHOD:PUBLISH
X-ORIGINAL-URL:https://www.un-associated.com
X-WR-CALDESC:Events for un-associated
REFRESH-INTERVAL;VALUE=DURATION:PT1H
X-Robots-Tag:noindex
X-PUBLISHED-TTL:PT1H
BEGIN:VTIMEZONE
TZID:America/Los_Angeles
BEGIN:DAYLIGHT
TZOFFSETFROM:-0800
TZOFFSETTO:-0700
TZNAME:PDT
DTSTART:20240310T100000
END:DAYLIGHT
BEGIN:STANDARD
TZOFFSETFROM:-0700
TZOFFSETTO:-0800
TZNAME:PST
DTSTART:20241103T090000
END:STANDARD
BEGIN:DAYLIGHT
TZOFFSETFROM:-0800
TZOFFSETTO:-0700
TZNAME:PDT
DTSTART:20250309T100000
END:DAYLIGHT
BEGIN:STANDARD
TZOFFSETFROM:-0700
TZOFFSETTO:-0800
TZNAME:PST
DTSTART:20251102T090000
END:STANDARD
BEGIN:DAYLIGHT
TZOFFSETFROM:-0800
TZOFFSETTO:-0700
TZNAME:PDT
DTSTART:20260308T100000
END:DAYLIGHT
BEGIN:STANDARD
TZOFFSETFROM:-0700
TZOFFSETTO:-0800
TZNAME:PST
DTSTART:20261101T090000
END:STANDARD
END:VTIMEZONE
BEGIN:VEVENT
DTSTART;TZID=America/Los_Angeles:20240909T173000
DTEND;TZID=America/Los_Angeles:20240909T183000
DTSTAMP:20260425T210054
CREATED:20240814T053332Z
LAST-MODIFIED:20240821T154622Z
UID:26180-1725903000-1725906600@www.un-associated.com
SUMMARY:Bible Study with UA
DESCRIPTION:In our monthly Bible Studies we study different books and topics covered in the Bible in order to gain a deeper appreciation for the Word of God while accepting challenges to apply its teachings to our daily lives. If you haven’t already\, sign up via the link below to receive monthly emails that will contain the Google Meets invite links. Can’t wait to see you!
URL:https://www.un-associated.com/event/bible-study-with-ua-2/
LOCATION:Google Meets
CATEGORIES:Virtual
ATTACH;FMTTYPE=image/png:https://www.un-associated.com/wp-content/uploads/2024/07/bible-study-event-feature-image.png
END:VEVENT
BEGIN:VEVENT
DTSTART;TZID=America/Los_Angeles:20250208T190000
DTEND;TZID=America/Los_Angeles:20250208T210000
DTSTAMP:20260425T210054
CREATED:20250103T191756Z
LAST-MODIFIED:20250103T192158Z
UID:26618-1739041200-1739048400@www.un-associated.com
SUMMARY:The UN-ASSOCIATED Poetry Jam 9
DESCRIPTION:Twice a year\, our community comes together for our Poetry Jam to connect with one another\, worship God and share our stories through spoken word. Our poetry show takes on a different spin by placing God at the center of all we do. Each performer shares their story of triumph in order to give glory to God and proclaim their victory over various challenges they’ve faced. Before each performer begins their piece\, they are instructed to introduce themselves with the following script: \n“I am [insert name] and I am un-associated with [insert what they’ve overcome].” \nIn doing this\, the performers communicate who they are and the challenges they refuse to associate with their sense of identity. We hope this night can be just a liberating and empowering for all attendees as it is for the performers. This even is open to all\, and free of charge. RSVP now! Invite a friend\, leave with more. Excited to see you on February 8th. \nDoors open at 6:30pm PST! Show starts 7pm. \nP.S. – Come ready to make some friends! \n  \nRSVP here
URL:https://www.un-associated.com/event/the-un-associated-poetry-jam-9/
LOCATION:1919 Bay St\, Los Angeles\, CA 90021\, 1919 Bay St\, Los Angeles\, CA\, 90021\, United States
CATEGORIES:In-Person
ATTACH;FMTTYPE=image/png:https://www.un-associated.com/wp-content/uploads/2025/01/tup9-feature-image-for-site.png
END:VEVENT
BEGIN:VEVENT
DTSTART;TZID=America/Los_Angeles:20250217T173000
DTEND;TZID=America/Los_Angeles:20250217T190000
DTSTAMP:20260425T210054
CREATED:20250103T185352Z
LAST-MODIFIED:20250103T214216Z
UID:26613-1739813400-1739818800@www.un-associated.com
SUMMARY:Bible Study with UA: The Story of the Bible Part 1
DESCRIPTION:In our Bible Studies we study different books and topics covered in the Bible in order to gain a deeper appreciation for the Word of God while accepting challenges to apply its teachings to our daily lives. If you haven’t already\, sign up for our newsletter to receive the Google Meets invite links. Can’t wait to study the Word with you! \nJoin here \nCouldn’t make it? While we would love to have you present in our Bible study\, and strongly encourage it\, we also know sometimes people’s schedules can get in the way and things happen. We will have the presentation deck uploaded to our Bible Studies page!
URL:https://www.un-associated.com/event/bible-study-with-ua-3/
LOCATION:Google Meets
CATEGORIES:Virtual
ATTACH;FMTTYPE=image/png:https://www.un-associated.com/wp-content/uploads/2025/01/UA-Bible-study-feature-image-for-site.png
END:VEVENT
BEGIN:VEVENT
DTSTART;TZID=America/Los_Angeles:20250303T173000
DTEND;TZID=America/Los_Angeles:20250303T190000
DTSTAMP:20260425T210054
CREATED:20250103T192439Z
LAST-MODIFIED:20250103T193808Z
UID:26624-1741023000-1741028400@www.un-associated.com
SUMMARY:Bible Study with UA: The Story of the Bible Part 2
DESCRIPTION:In our Bible Studies we study different books and topics covered in the Bible in order to gain a deeper appreciation for the Word of God while accepting challenges to apply its teachings to our daily lives. If you haven’t already\, sign up for our newsletter to receive the Google Meets invite links. Can’t wait to study the Word with you! \nJoin here \nCouldn’t make it? While we would love to have you present in our Bible study\, and strongly encourage it\, we also know sometimes people’s schedules can get in the way and things happen. We will have the presentation deck uploaded to our Bible Studies page!
URL:https://www.un-associated.com/event/bible-study-with-ua-4/
LOCATION:Google Meets
CATEGORIES:Virtual
ATTACH;FMTTYPE=image/png:https://www.un-associated.com/wp-content/uploads/2025/01/UA-Bible-study-feature-image-for-site.png
END:VEVENT
BEGIN:VEVENT
DTSTART;TZID=America/Los_Angeles:20250317T173000
DTEND;TZID=America/Los_Angeles:20250317T190000
DTSTAMP:20260425T210054
CREATED:20250103T192808Z
LAST-MODIFIED:20250103T214213Z
UID:26626-1742232600-1742238000@www.un-associated.com
SUMMARY:Bible Study with UA: The Story of the Bible Part 3
DESCRIPTION:In our Bible Studies we study different books and topics covered in the Bible in order to gain a deeper appreciation for the Word of God while accepting challenges to apply its teachings to our daily lives. If you haven’t already\, sign up for our newsletter to receive the Google Meets invite links. Can’t wait to study the Word with you! \nJoin here \nCouldn’t make it? While we would love to have you present in our Bible study\, and strongly encourage it\, we also know sometimes people’s schedules can get in the way and things happen. We will have the presentation deck uploaded to our Bible Studies page!
URL:https://www.un-associated.com/event/bible-study-with-ua-the-story-of-the-bible/
LOCATION:Google Meets
CATEGORIES:Virtual
ATTACH;FMTTYPE=image/png:https://www.un-associated.com/wp-content/uploads/2025/01/UA-Bible-study-feature-image-for-site.png
END:VEVENT
BEGIN:VEVENT
DTSTART;TZID=America/Los_Angeles:20250331T173000
DTEND;TZID=America/Los_Angeles:20250331T190000
DTSTAMP:20260425T210054
CREATED:20250103T193023Z
LAST-MODIFIED:20250103T193734Z
UID:26632-1743442200-1743447600@www.un-associated.com
SUMMARY:Bible Study with UA: The Story of the Bible Part 4
DESCRIPTION:In our Bible Studies we study different books and topics covered in the Bible in order to gain a deeper appreciation for the Word of God while accepting challenges to apply its teachings to our daily lives. If you haven’t already\, sign up for our newsletter to receive the Google Meets invite links. Can’t wait to study the Word with you! \nJoin here \nCouldn’t make it? While we would love to have you present in our Bible study\, and strongly encourage it\, we also know sometimes people’s schedules can get in the way and things happen. We will have the presentation deck uploaded to our Bible Studies page!
URL:https://www.un-associated.com/event/bible-study-with-ua-the-story-of-the-bible-part-4/
LOCATION:Google Meets
CATEGORIES:Virtual
ATTACH;FMTTYPE=image/png:https://www.un-associated.com/wp-content/uploads/2025/01/UA-Bible-study-feature-image-for-site.png
END:VEVENT
BEGIN:VEVENT
DTSTART;TZID=America/Los_Angeles:20250414T173000
DTEND;TZID=America/Los_Angeles:20250414T190000
DTSTAMP:20260425T210054
CREATED:20250103T193544Z
LAST-MODIFIED:20250103T193544Z
UID:26635-1744651800-1744657200@www.un-associated.com
SUMMARY:Bible Study with UA: The Story of the Bible Part 5
DESCRIPTION:In our Bible Studies we study different books and topics covered in the Bible in order to gain a deeper appreciation for the Word of God while accepting challenges to apply its teachings to our daily lives. If you haven’t already\, sign up for our newsletter to receive the Google Meets invite links. Can’t wait to study the Word with you! \nJoin here \nCouldn’t make it? While we would love to have you present in our Bible study\, and strongly encourage it\, we also know sometimes people’s schedules can get in the way and things happen. We will have the presentation deck uploaded to our Bible Studies page!
URL:https://www.un-associated.com/event/bible-study-with-ua-the-story-of-the-bible-part-5/
LOCATION:Google Meets
CATEGORIES:Virtual
ATTACH;FMTTYPE=image/png:https://www.un-associated.com/wp-content/uploads/2025/01/UA-Bible-study-feature-image-for-site.png
END:VEVENT
BEGIN:VEVENT
DTSTART;TZID=America/Los_Angeles:20250428T173000
DTEND;TZID=America/Los_Angeles:20250428T190000
DTSTAMP:20260425T210054
CREATED:20250103T193713Z
LAST-MODIFIED:20250103T214219Z
UID:26637-1745861400-1745866800@www.un-associated.com
SUMMARY:Bible Study with UA: The Story of the Bible Part 6
DESCRIPTION:In our Bible Studies we study different books and topics covered in the Bible in order to gain a deeper appreciation for the Word of God while accepting challenges to apply its teachings to our daily lives. If you haven’t already\, sign up for our newsletter to receive the Google Meets invite links. Can’t wait to study the Word with you! \nJoin here \nCouldn’t make it? While we would love to have you present in our Bible study\, and strongly encourage it\, we also know sometimes people’s schedules can get in the way and things happen. We will have the presentation deck uploaded to our Bible Studies page!
URL:https://www.un-associated.com/event/bible-study-with-ua-the-story-of-the-bible-part-6/
LOCATION:Google Meets
CATEGORIES:Virtual
ATTACH;FMTTYPE=image/png:https://www.un-associated.com/wp-content/uploads/2025/01/UA-Bible-study-feature-image-for-site.png
END:VEVENT
BEGIN:VEVENT
DTSTART;TZID=America/Los_Angeles:20260530T193000
DTEND;TZID=America/Los_Angeles:20260530T220000
DTSTAMP:20260425T210054
CREATED:20260416T052917Z
LAST-MODIFIED:20260416T052917Z
UID:28491-1780169400-1780178400@www.un-associated.com
SUMMARY:UN-ASSOCIATED's Gospel Jazz Night
DESCRIPTION:For the first time ever\, UA is hosting a Gospel Jazz Night—an evening where faith\, music\, and community come together. \nThe night will feature live musical sets from a band and vocalists performing jazz renditions of your favorite gospel songs. By blending the richness of jazz with the heart of gospel\, we’re creating a space that weaves worship into sounds you may love\, but may not typically hear in traditional church settings. \nMore than just a concert\, this is a mixer—a space to connect\, meet new people\, and build community in a loving\, creative\, and welcoming environment. Whether you’re coming with friends or showing up solo\, expect meaningful conversations\, shared moments\, and an atmosphere you’ll instantly feel at home in. \nThis event is designed for Jesus lovers who appreciate great music and authentic connection\, but it’s also open to anyone who’s curious\, exploring\, or simply looking for a unique night out.
URL:https://www.un-associated.com/event/un-associateds-gospel-jazz-night/
LOCATION:3764 Glendon Ave\, Los Angeles\, CA 90034\, 3764 Glendon Ave\, Los Angeles\, CA\, 90034\, United States
CATEGORIES:In-Person
ATTACH;FMTTYPE=image/png:https://www.un-associated.com/wp-content/uploads/2026/04/jazz-night-newsletter-cover.png
END:VEVENT
END:VCALENDAR